BEGIN:VCALENDAR
VERSION:2.0
PRODID:-//orgCentral//EN_US
CALSCALE:GREGORIAN
METHOD:PUBLISH
BEGIN:VEVENT
DTSTART:20240622T220000Z
DTEND:20240623T020000Z
LOCATION:Covington Square\n \n Covington Georgia\, 10011\n \n \n \n 
CATEGORIES:Event
SUMMARY:Cinema Saturday: Sunny Beach Saturday
DESCRIPTION:\n	Cinema Saturday: Sunny Beach Saturday\n\n	First Movie Starts at 6 p.m.\, Second Movie Immediately Following\n\n	\n		\n			\n				\n			\n				\n		\n	\n\n\n	&nbsp;\n
SEQUENCE:0
UID:9e2f6c1403010684222b13debba64dc4@69.167.152.199
URL:https://cityofcovington.org/section=visit-calendar&evtid=1255
X-MICROSOFT-CDO-IMPORTANCE:2
CLASS:PUBLIC
DTSTAMP:20260420T165957
CREATED:20260420T165957
END:VEVENT
END:VCALENDAR
