BEGIN:VCALENDAR
VERSION:2.0
PRODID:-//orgCentral//EN_US
CALSCALE:GREGORIAN
METHOD:PUBLISH
BEGIN:VEVENT
DTSTART:20241005T130000Z
DTEND:20241005T160000Z
LOCATION:The Covington Welcome Center\n 1143 Oak Street SE\n Covington Georgia\, 30014\n \n \n \n 
CATEGORIES:Event
SUMMARY:Covington Farmers Market
DESCRIPTION:\n	\n		\n			\n				\n			\n				\n			\n				\n		\n	\n\n\n	\n\n	Heirloom Park @ The Covington Welcome Center\n\n	1143 Oak Street SE | Covington\, GA 30014\n\n	9 a.m. to 12 p.m. almost* every Saturday from May to October 12\n
SEQUENCE:0
UID:bf4db2cc6137557aaf945bd9e5374ab5@69.167.152.199
URL:https://cityofcovington.org/section=visit-calendar&evtid=1276
X-MICROSOFT-CDO-IMPORTANCE:2
CLASS:PUBLIC
DTSTAMP:20260420T180734
CREATED:20260420T180734
END:VEVENT
END:VCALENDAR
