BEGIN:VCALENDAR
VERSION:2.0
PRODID:-//orgCentral//EN_US
CALSCALE:GREGORIAN
METHOD:PUBLISH
BEGIN:VEVENT
DTSTART:20240720T130000Z
DTEND:20240720T170000Z
LOCATION:Downtown Covington\n \n  \, \n \n \n \n 
CATEGORIES:Event
SUMMARY:Christmas in July Market
DESCRIPTION:\n	A summer market that sleighs...the Christmas in July Market on the Square!\n\n	\n		Farmers Market vendors\n	\n		Arts and crafts vendors\n	\n		Artisans\n	\n		Community partner booths\n	\n		Square businesses will be open\n	\n		Christmas music\n	\n		Santa (in shorts!)\n\n\n	&nbsp;\n\n	Come shop\, sing and be holly jolly in July!\n
SEQUENCE:0
UID:e51b1132282bf1bc8c805f31a41a7c8c@69.167.152.199
URL:https://cityofcovington.org/section=visit-calendar&evtid=1291
X-MICROSOFT-CDO-IMPORTANCE:2
CLASS:PUBLIC
DTSTAMP:20260420T164603
CREATED:20260420T164603
END:VEVENT
END:VCALENDAR
