BEGIN:VCALENDAR
VERSION:2.0
PRODID:-//orgCentral//EN_US
CALSCALE:GREGORIAN
METHOD:PUBLISH
BEGIN:VEVENT
DTSTART:20250508T160000Z
DTEND:20250508T170000Z
LOCATION:Covington Square\n \n Covington Georgia\, 10011\n \n \n \n 
CATEGORIES:Event
SUMMARY:Live at Lunch Concert on the Square: Stello & The Supes (Soul)
DESCRIPTION:\n	\n
SEQUENCE:0
UID:d57f21c1b5e2451d903170eaf98c47fb@69.167.152.199
URL:https://cityofcovington.org/section=visit-calendar&evtid=1415
X-MICROSOFT-CDO-IMPORTANCE:2
CLASS:PUBLIC
DTSTAMP:20260419T105739
CREATED:20260419T105739
END:VEVENT
END:VCALENDAR
