BEGIN:VCALENDAR
VERSION:2.0
PRODID:-//orgCentral//EN_US
CALSCALE:GREGORIAN
METHOD:PUBLISH
BEGIN:VEVENT
DTSTART:20200902T220000Z
DTEND:20200903T000000Z
LOCATION:Teleconference\n \n  \, \n \n \n \n 
CATEGORIES:Event
SUMMARY:Historic Preservation Committee Board Meeting***
DESCRIPTION:\n	CITY OF COVINGTON\n\n	VIRTUAL HISTORIC PRESERVATION COMMISSION\n\n	AGENDA\n\n	September 2\, 2020\n\n	6:00 P.M.\n\n	1. OPENING REMARKS/ROLL CALL\n\n	2. APPROVAL OF THE AGENDA\n\n	3. APPROVAL OF THE MINUTES &ndash; August 5\, 2020 Minutes\n\n	4. OLD BUSINESS: (None)\n\n	5. Discussion Item:\n\n	6. NEW BUSINESS:\n\n	ITEM 1: COA#PCA20-0021 Remove overhang from the fa&ccedil;ade\, expose and repaint original brick. Add new modern style awnings\, and repair joints in brick.\n\n	LOCATION: 1143 &amp; 1149 Washington Street\n\n	TAX PARCEL: C026 0018 005\n\n	OWNER: Binkman\, LLC\n\n	APPLICANT: Binkman\, LLC\n\n	&nbsp;\n\n	ITEM 2: COA#PCA20-017 (2020) Construct a new house.\n\n	LOCATION : 5112 Floyd Street\n\n	TAX PARCEL : C010 0001 004 A\n\n	OWNER: Zapata Construction\n\n	APPLICANT: Zapata Construction\n\n	&nbsp;\n\n	ITEM 3: COA#PCA20-0022 &ndash; Request to Construct Fence in Rear Yard. &ndash; Remove from Agenda\n\n	LOCATION : 5130 Hillcrest Drive\n\n	TAX PARCEL : C023 0002 009\n\n	OWNER: Geoffroy Michael and Gerard &amp; Tara McFarland\n\n	APPLICANT: Geoffroy Michael\n\n	&nbsp;\n\n	7. ADJOURNMENT\n
SEQUENCE:0
UID:fa1ac0c00a7d309aaaa2373657e862c0@69.167.152.199
URL:https://cityofcovington.org/section=visit-calendar&evtid=687
X-MICROSOFT-CDO-IMPORTANCE:2
CLASS:PUBLIC
DTSTAMP:20260420T020858
CREATED:20260420T020858
END:VEVENT
END:VCALENDAR
